BEGIN:VCALENDAR
VERSION:2.0
PRODID:icalendar-ruby
CALSCALE:GREGORIAN
METHOD:PUBLISH
BEGIN:VEVENT
DTSTAMP:20260423T145242Z
UID:15-1387082@bedfordpacma.org
DTSTART:20260514T220000Z
DTEND:20260515T000000Z
CLASS:PUBLIC
CREATED:20260422T150134
DESCRIPTION:Girls of all ages are invited! Bring your mom\, daughter\, sist
 er\, grandma\, granddaughter\, aunt\, friend...\n\nWe'll do a simple clay 
 craft!\n\nIf you're able\, please bring sandwiches\, a salad or dessert to
  share.\n 
LAST-MODIFIED:20260422T150134
LOCATION:9391 Lincoln Hwy\, Bedford PA 15522
SUMMARY:Girls' Night Out
URL;VALUE=URI:https://bedfordpacma.org/events/girls-night-out/2026-05-14
ATTACH;FILENAME=GNO Masterpiece.jpg;FMTTYPE=image/jpeg:https://dq5pwpg1q8ru
 0.cloudfront.net/2026/04/22/19/01/33/fd048819-b810-4509-a457-7930dbb96982/
 GNO%20Masterpiece.jpg
END:VEVENT
END:VCALENDAR
